BEGIN:VCALENDAR
VERSION:2.0
PRODID:-//Gremi de Pagesos - ECPv6.15.17.1//NONSGML v1.0//EN
CALSCALE:GREGORIAN
METHOD:PUBLISH
X-WR-CALNAME:Gremi de Pagesos
X-ORIGINAL-URL:http://gremidepagesos.cat
X-WR-CALDESC:Esdeveniments per Gremi de Pagesos
REFRESH-INTERVAL;VALUE=DURATION:PT1H
X-Robots-Tag:noindex
X-PUBLISHED-TTL:PT1H
BEGIN:VTIMEZONE
TZID:UTC
BEGIN:STANDARD
TZOFFSETFROM:+0000
TZOFFSETTO:+0000
TZNAME:UTC
DTSTART:20170101T000000
END:STANDARD
END:VTIMEZONE
BEGIN:VEVENT
DTSTART;TZID=UTC:20180117T110000
DTEND;TZID=UTC:20180117T120000
DTSTAMP:20260421T120309
CREATED:20171209T173520Z
LAST-MODIFIED:20171209T173520Z
UID:1963-1516186800-1516190400@gremidepagesos.cat
SUMMARY:Festivitat de Sant Antoni
DESCRIPTION:Missa a les 11h. Benedicció d’animals de companyia. Posteriorment\, repartiment de coques.
URL:http://gremidepagesos.cat/acte/festivitat-de-sant-antoni
LOCATION:Església de Sant Llorenç\, Plaça de la Pagesia\, Tarragona\, Tarragona\, 43003\, Espanya
CATEGORIES:Gremi de Pagesos
END:VEVENT
END:VCALENDAR