BEGIN:VCALENDAR
VERSION:2.0
PRODID:-//Gremi de Pagesos - ECPv6.15.17.1//NONSGML v1.0//EN
CALSCALE:GREGORIAN
METHOD:PUBLISH
X-ORIGINAL-URL:http://gremidepagesos.cat
X-WR-CALDESC:Esdeveniments per Gremi de Pagesos
REFRESH-INTERVAL;VALUE=DURATION:PT1H
X-Robots-Tag:noindex
X-PUBLISHED-TTL:PT1H
BEGIN:VTIMEZONE
TZID:UTC
BEGIN:STANDARD
TZOFFSETFROM:+0000
TZOFFSETTO:+0000
TZNAME:UTC
DTSTART:20170101T000000
END:STANDARD
END:VTIMEZONE
BEGIN:VEVENT
DTSTART;TZID=UTC:20180308T200000
DTEND;TZID=UTC:20180308T210000
DTSTAMP:20260422T025448
CREATED:20180208T182339Z
LAST-MODIFIED:20180224T131117Z
UID:2072-1520539200-1520542800@gremidepagesos.cat
SUMMARY:Presentació de l'Opuscle
DESCRIPTION:Presentació de l’Opuscle de Setmana Santa 2018 a l’Església de Sant Llorenç.  \n\nEn el marc de la presentació es representarà el Ball Parlat  de Santa Maria Magdalena a càrrec de l’Estudi de Música\, dirigit per la Sra. M. Teresa Valls Miró\, el qual fa referència a la història evangèlica de la nostra patrona. El ball ha estat recentment recuperat pel poble de La Nou de Gaià en motiu del seu mil·lenari.  \n\nTot seguit es lliuraran les banderes del Sant Sepulcre i de La Pietat als banderers d’enguany. Tanmateix\, en el decurs de l’acte s’atorgaran les distincions  Amics del Sant Sepulcre així com el reconeixement a antics portants dels nostres Misteris.  \n\nEn acabar la presentació es lliurarà un opuscle a cada assistent i s’oferirà un aperitiu popular a la sortida de l’Església.
URL:http://gremidepagesos.cat/acte/presentacio-de-lopuscle
LOCATION:Església de Sant Llorenç\, Plaça de la Pagesia\, Tarragona\, Tarragona\, 43003\, Espanya
CATEGORIES:Gremi de Pagesos,Setmana Santa
END:VEVENT
END:VCALENDAR