BEGIN:VCALENDAR
VERSION:2.0
PRODID:-//Gremi de Pagesos - ECPv6.15.17.1//NONSGML v1.0//EN
CALSCALE:GREGORIAN
METHOD:PUBLISH
X-ORIGINAL-URL:http://gremidepagesos.cat
X-WR-CALDESC:Esdeveniments per Gremi de Pagesos
REFRESH-INTERVAL;VALUE=DURATION:PT1H
X-Robots-Tag:noindex
X-PUBLISHED-TTL:PT1H
BEGIN:VTIMEZONE
TZID:UTC
BEGIN:STANDARD
TZOFFSETFROM:+0000
TZOFFSETTO:+0000
TZNAME:UTC
DTSTART:20170101T000000
END:STANDARD
END:VTIMEZONE
BEGIN:VEVENT
DTSTART;TZID=UTC:20180311T090000
DTEND;TZID=UTC:20180311T140000
DTSTAMP:20260422T024405
CREATED:20180223T061408Z
LAST-MODIFIED:20180223T163807Z
UID:2211-1520758800-1520776800@gremidepagesos.cat
SUMMARY:Tres Tombs 2018
DESCRIPTION:Celebració dels tradicionals Tres Tombs de Tarragona.\nSegona part de la festivitat de Sant Antoni Abat\, copatró del Gremi.\n\n  \n\nEls tres tombs es celebren amb motiu de la festivitat de sant Antoni Abat\, protector dels animals\, i són un conjunt de celebracions que es celebren arreu de Catalunya entorn el 17 de gener i que consisteixen en donar tres voltes amb els cavalls\, carros i altres animals de tir per l’interior de la població.\n  \n\nPrograma:\n  \n\n9:00h.- Concentració dels carruatges i cavalleries a l’Avinguda de la Independència davant de l’antiga “Tabacalera”.\n  \n10:00h.- Esmorzar per als participants.\n  \n11:00h.- Inici de la desfilada en direcció Rambla Nova. Recorregut: carrer Manuel de Falla\, Francesc Bastos\, Ramon i Cajal fins a la Rambla Nova.\n  \n12:00h.- Inici dels Tres Tombs a la Rambla Nova. En Mn. Francesc Gallart Magarolas beneirà les cavalleries des la tarima situada a la Rambla Nova davant les oficines de l’Ajuntament. Recorregut: Rambla Nova tram del Balcó del Mediterrani a l’estatua dels Despullats. En acabar l’acte es repartirà un record commemoratiu de la diada a tots els participants.\n  \nL’esdeveniment compta amb el patrocini de l’empresa REPSOL\, Ajuntament de Tarragona\, Port de Tarragona i Diputació de Tarragona.
URL:http://gremidepagesos.cat/acte/tres-tombs-2018
LOCATION:Rambla Nova\, Rambla Nova\, Tarragona\, Tarragona\, 43004\, Espanya
CATEGORIES:Gremi de Pagesos,Tres tombs
ATTACH;FMTTYPE=image/jpeg:https://gremidepagesos.cat/wp-content/uploads/2018/02/Tres-Tombs-2018.jpg
END:VEVENT
END:VCALENDAR