BEGIN:VCALENDAR
VERSION:2.0
PRODID:-//Gremi de Pagesos - ECPv6.15.17.1//NONSGML v1.0//EN
CALSCALE:GREGORIAN
METHOD:PUBLISH
X-WR-CALNAME:Gremi de Pagesos
X-ORIGINAL-URL:http://gremidepagesos.cat
X-WR-CALDESC:Esdeveniments per Gremi de Pagesos
REFRESH-INTERVAL;VALUE=DURATION:PT1H
X-Robots-Tag:noindex
X-PUBLISHED-TTL:PT1H
BEGIN:VTIMEZONE
TZID:Europe/Paris
BEGIN:DAYLIGHT
TZOFFSETFROM:+0100
TZOFFSETTO:+0200
TZNAME:CEST
DTSTART:20170326T010000
END:DAYLIGHT
BEGIN:STANDARD
TZOFFSETFROM:+0200
TZOFFSETTO:+0100
TZNAME:CET
DTSTART:20171029T010000
END:STANDARD
BEGIN:DAYLIGHT
TZOFFSETFROM:+0100
TZOFFSETTO:+0200
TZNAME:CEST
DTSTART:20180325T010000
END:DAYLIGHT
BEGIN:STANDARD
TZOFFSETFROM:+0200
TZOFFSETTO:+0100
TZNAME:CET
DTSTART:20181028T010000
END:STANDARD
BEGIN:DAYLIGHT
TZOFFSETFROM:+0100
TZOFFSETTO:+0200
TZNAME:CEST
DTSTART:20190331T010000
END:DAYLIGHT
BEGIN:STANDARD
TZOFFSETFROM:+0200
TZOFFSETTO:+0100
TZNAME:CET
DTSTART:20191027T010000
END:STANDARD
END:VTIMEZONE
BEGIN:VEVENT
DTSTART;TZID=Europe/Paris:20180323T190000
DTEND;TZID=Europe/Paris:20180323T220000
DTSTAMP:20260424T104707
CREATED:20180317T151952Z
LAST-MODIFIED:20180317T151952Z
UID:2321-1521831600-1521842400@gremidepagesos.cat
SUMMARY:Processó del Divendres de Dolors
DESCRIPTION:A les 19:00 hores. Viacrucis per l’interior de l’església de Sant Llorenç\, presidit pel Sant Crist de la Pietat i oficiat per Mn. Raimon Mateu. \nActe seguit solemne Processó del Divendres de Dolors pels carrers de la Part Alta de Tarragona\, precedida pels Armats de la Confraria de La Sang de Constantí\, amb la presidència del Sant Crist de la secció de les Senyores de La Pietat. Amb la participació de la coral L’Àncora i la habitual dels alumnes del col·legi Sant Pau Apòstol de Tarragona\, agremiats\, fidels i autoritats\, acompanyant tots ells els passos de la Pietat i del Sant Sepulcre\, aquest últim escortat pels Armats del Gremi.  \nEs demana als assistents a la Processó que la corresponent vesta de cada agrupació o confraria sigui acompanyada de sabates i mitjons negres.
URL:http://gremidepagesos.cat/acte/processo-del-divendres-de-dolors
LOCATION:Església de Sant Llorenç\, Plaça de la Pagesia\, Tarragona\, Tarragona\, 43003\, Espanya
CATEGORIES:Gremi de Pagesos,Setmana Santa
END:VEVENT
END:VCALENDAR