BEGIN:VCALENDAR
VERSION:2.0
PRODID:-//Gremi de Pagesos - ECPv6.15.17.1//NONSGML v1.0//EN
CALSCALE:GREGORIAN
METHOD:PUBLISH
X-ORIGINAL-URL:http://gremidepagesos.cat
X-WR-CALDESC:Esdeveniments per Gremi de Pagesos
REFRESH-INTERVAL;VALUE=DURATION:PT1H
X-Robots-Tag:noindex
X-PUBLISHED-TTL:PT1H
BEGIN:VTIMEZONE
TZID:Europe/Paris
BEGIN:DAYLIGHT
TZOFFSETFROM:+0100
TZOFFSETTO:+0200
TZNAME:CEST
DTSTART:20200329T010000
END:DAYLIGHT
BEGIN:STANDARD
TZOFFSETFROM:+0200
TZOFFSETTO:+0100
TZNAME:CET
DTSTART:20201025T010000
END:STANDARD
BEGIN:DAYLIGHT
TZOFFSETFROM:+0100
TZOFFSETTO:+0200
TZNAME:CEST
DTSTART:20210328T010000
END:DAYLIGHT
BEGIN:STANDARD
TZOFFSETFROM:+0200
TZOFFSETTO:+0100
TZNAME:CET
DTSTART:20211031T010000
END:STANDARD
BEGIN:DAYLIGHT
TZOFFSETFROM:+0100
TZOFFSETTO:+0200
TZNAME:CEST
DTSTART:20220327T010000
END:DAYLIGHT
BEGIN:STANDARD
TZOFFSETFROM:+0200
TZOFFSETTO:+0100
TZNAME:CET
DTSTART:20221030T010000
END:STANDARD
END:VTIMEZONE
BEGIN:VEVENT
DTSTART;TZID=Europe/Paris:20210810T200000
DTEND;TZID=Europe/Paris:20210810T210000
DTSTAMP:20260423T213456
CREATED:20210513T175356Z
LAST-MODIFIED:20210807T104153Z
UID:3598-1628625600-1628629200@gremidepagesos.cat
SUMMARY:Sant Llorenç
DESCRIPTION:A les 20:00 h. A l’església de Sant Llorenç\, ofici solemne en honor de Sant Llorenç\, copatró dels Bracers des de l’any 1405\, a càrrec del nostre consiliari Mn. Xavier Reñé. L’acte serà acompanyat pels cants litúrgics interpretats per la directora de la coral L’Àncora Sra. Silvia Virgili. Un cop acabada la cerimònia es beneirà i repartirà alfàbrega entre els assistents.\nAforament reduït i obligatori guardar la distància de seguretat\, neteja de mans i mascareta.
URL:http://gremidepagesos.cat/acte/sant-llorenc
LOCATION:Tarragona
END:VEVENT
END:VCALENDAR