BEGIN:VCALENDAR
VERSION:2.0
PRODID:-//Gremi de Pagesos - ECPv6.15.17.1//NONSGML v1.0//EN
CALSCALE:GREGORIAN
METHOD:PUBLISH
X-ORIGINAL-URL:http://gremidepagesos.cat
X-WR-CALDESC:Esdeveniments per Gremi de Pagesos
REFRESH-INTERVAL;VALUE=DURATION:PT1H
X-Robots-Tag:noindex
X-PUBLISHED-TTL:PT1H
BEGIN:VTIMEZONE
TZID:UTC
BEGIN:STANDARD
TZOFFSETFROM:+0000
TZOFFSETTO:+0000
TZNAME:UTC
DTSTART:20170101T000000
END:STANDARD
END:VTIMEZONE
BEGIN:VTIMEZONE
TZID:Europe/Paris
BEGIN:DAYLIGHT
TZOFFSETFROM:+0100
TZOFFSETTO:+0200
TZNAME:CEST
DTSTART:20170326T010000
END:DAYLIGHT
BEGIN:STANDARD
TZOFFSETFROM:+0200
TZOFFSETTO:+0100
TZNAME:CET
DTSTART:20171029T010000
END:STANDARD
BEGIN:DAYLIGHT
TZOFFSETFROM:+0100
TZOFFSETTO:+0200
TZNAME:CEST
DTSTART:20180325T010000
END:DAYLIGHT
BEGIN:STANDARD
TZOFFSETFROM:+0200
TZOFFSETTO:+0100
TZNAME:CET
DTSTART:20181028T010000
END:STANDARD
BEGIN:DAYLIGHT
TZOFFSETFROM:+0100
TZOFFSETTO:+0200
TZNAME:CEST
DTSTART:20190331T010000
END:DAYLIGHT
BEGIN:STANDARD
TZOFFSETFROM:+0200
TZOFFSETTO:+0100
TZNAME:CET
DTSTART:20191027T010000
END:STANDARD
BEGIN:DAYLIGHT
TZOFFSETFROM:+0100
TZOFFSETTO:+0200
TZNAME:CEST
DTSTART:20200329T010000
END:DAYLIGHT
BEGIN:STANDARD
TZOFFSETFROM:+0200
TZOFFSETTO:+0100
TZNAME:CET
DTSTART:20201025T010000
END:STANDARD
END:VTIMEZONE
BEGIN:VEVENT
DTSTART;TZID=UTC:20180324T200000
DTEND;TZID=UTC:20180324T210000
DTSTAMP:20260422T042104
CREATED:20180223T063148Z
LAST-MODIFIED:20180224T131200Z
UID:2218-1521921600-1521925200@gremidepagesos.cat
SUMMARY:Celebració del “XXXII Concert Sacre de Setmana Santa Coral L’Àncora”
DESCRIPTION:La Coral l’Àncora oferirà el tradicional concert Sacre de vigília del diumenge de Rams\, dirigit per la Sra. Silvia Virgili.  \n\nLa Coral l’Àncora és degana de les corals tarragonines i va ser fundada per Josep Anselm Clavé. L’associació té un vincle estret amb el gremi arran del conveni de col·laboració que van subscriure ambdues parts.
URL:http://gremidepagesos.cat/acte/celebracio-del-xxxii-concert-sacre-de-setmana-santa-coral-lancora
LOCATION:Església de Sant Llorenç\, Plaça de la Pagesia\, Tarragona\, Tarragona\, 43003\, Espanya
CATEGORIES:Gremi de Pagesos,Setmana Santa
END:VEVENT
BEGIN:VEVENT
DTSTART;TZID=UTC:20180325T110000
DTEND;TZID=UTC:20180325T120000
DTSTAMP:20260422T042104
CREATED:20180223T135212Z
LAST-MODIFIED:20180223T135512Z
UID:2221-1521975600-1521979200@gremidepagesos.cat
SUMMARY:Diumenge de Rams
DESCRIPTION:A les 11:00 hores al carrer de les Coques\, organitzada pel Capítol de la Catedral\, solemne benedicció de palmes i rams. Tot seguit en processó fins accedir a l’interior de la Catedral on a les 11:30 h. a l’altar Major hi haurà la Santa Missa Pontifical de Diumenge de Rams\, presidida per l’Il·lustríssim i Reverendíssim Sr. Arquebisbe de Tarragona i Primat\, Dr. Jaume Pujol i Balcells.
URL:http://gremidepagesos.cat/acte/diumenge-de-rams-2018
LOCATION:Catedral de Tarragona\, pla de la seu\, 1\, Tarragona\, Espanya
CATEGORIES:Gremi de Pagesos,Setmana Santa
END:VEVENT
BEGIN:VEVENT
DTSTART;TZID=UTC:20180329T180000
DTEND;TZID=UTC:20180329T220000
DTSTAMP:20260422T042104
CREATED:20180223T135415Z
LAST-MODIFIED:20180328T120625Z
UID:2223-1522346400-1522360800@gremidepagesos.cat
SUMMARY:Sant Sopar
DESCRIPTION:Celebració del Sant Sopar de Nostre Senyor Jesucrist oficiada per Mossèn Francesc Gallart Magarolas. Acte seguit\, adoració al Santíssim Monument.\n\n \n\nEnguany i com a novetat\, a les 19h i a les 20h\, acatament i veneració al Santíssim Monument per part dels Armats del Gremi.\n\n \n\nFins a les 22:00 hores l’església romandrà oberta per l’adoració.
URL:http://gremidepagesos.cat/acte/sant-sopar
LOCATION:Església de Sant Llorenç\, Plaça de la Pagesia\, Tarragona\, Tarragona\, 43003\, Espanya
CATEGORIES:Gremi de Pagesos,Setmana Santa
END:VEVENT
BEGIN:VEVENT
DTSTART;TZID=UTC:20180330T080000
DTEND;TZID=UTC:20180330T120000
DTSTAMP:20260422T042104
CREATED:20180223T135717Z
LAST-MODIFIED:20180224T131220Z
UID:2226-1522396800-1522411200@gremidepagesos.cat
SUMMARY:Marxa a la farigola i ofici
DESCRIPTION:Celebració del Divendres Sant al Gremi de Pagesos de Sant Llorenç i Sant Isidre.  \nPrograma  \n8h a 11h.- Adoració al Santíssim Monument.  \n9h.- V Marxa de la Farigola. Sortirem de l’església de Sant Llorenç fins les rodalies de la nostra ciutat.  \n11h.- Ofici propi del Divendres Sant i benedicció de la farigola recollida a càrrec de Mn. Francesc Gallart Magarolas. Repartiment de la farigola entre els assistents.
URL:http://gremidepagesos.cat/acte/marxa-a-la-farigola-i-ofici
LOCATION:Església de Sant Llorenç\, Plaça de la Pagesia\, Tarragona\, Tarragona\, 43003\, Espanya
CATEGORIES:Gremi de Pagesos,Setmana Santa
END:VEVENT
BEGIN:VEVENT
DTSTART;TZID=Europe/Paris:20180330T173000
DTEND;TZID=Europe/Paris:20180330T183000
DTSTAMP:20260422T042104
CREATED:20180321T142757Z
LAST-MODIFIED:20180321T142820Z
UID:2332-1522431000-1522434600@gremidepagesos.cat
SUMMARY:Recollida de misteris
DESCRIPTION:A les 17:30h els armats de la R. V. Congregació de la Puríssima Sang recolliran els passos del Sant Sepulcre i La Pietat a la plaça de la Pagesia. \nL’itinerari que realitzaran un cop siguin recollits és: les Coques\, Pare Iglesias\, Merceria\, Plaça de les Cols\, Major\, Baixada de la Misericòrdia\, Cós del Bou\, Baixada de la Pescateria i Plaça del Rei.
URL:http://gremidepagesos.cat/acte/recollida-de-misteris
LOCATION:Església de Sant Llorenç\, Plaça de la Pagesia\, Tarragona\, Tarragona\, 43003\, Espanya
CATEGORIES:Gremi de Pagesos,Setmana Santa
END:VEVENT
BEGIN:VEVENT
DTSTART;TZID=Europe/Paris:20180330T203000
DTEND;TZID=Europe/Paris:20180331T010000
DTSTAMP:20260422T042104
CREATED:20180321T143859Z
LAST-MODIFIED:20180321T144010Z
UID:2336-1522441800-1522458000@gremidepagesos.cat
SUMMARY:Processó del Sant Enterrament
DESCRIPTION:Els passos de La Pietat i el Sant Sepulcre participaran en la Processó del Sant Enterrament de Divendres Sant\, declarada Festa Patrimonial d’Interès General per la Generalitat de Catalunya\, organitzada per la R. i V. Congregació de la Puríssima Sang de N. S. Jesucrist. Hi participaran els armats de la Sang i les dotze associacions de Setmana Santa que acompanyaran els respectius passos (vint en total). \nLa Pietat sortirà en el lloc 14 (a les 20.15h aprox.) i el Sant Sepulcre en el lloc 17 (a les 20.35h aprox.). \nEs demana als assistents a la Processo que la corresponen vesta sigui acompanyada de la cua i de sabates negres i mitjons. 
URL:http://gremidepagesos.cat/acte/processo-del-sant-enterrament
LOCATION:Plaça del Rei\, Tarragona\, Tarragona\, 43003\, Espanya
CATEGORIES:Gremi de Pagesos,Setmana Santa
END:VEVENT
BEGIN:VEVENT
DTSTART;TZID=Europe/Paris:20180603T184500
DTEND;TZID=Europe/Paris:20180603T204500
DTSTAMP:20260422T042104
CREATED:20180530T191414Z
LAST-MODIFIED:20180530T191623Z
UID:2468-1528051500-1528058700@gremidepagesos.cat
SUMMARY:Seguici de Corpus
DESCRIPTION:18.45 h Pla de la Seu. Els elements del Seguici de Corpus —el Magí de les Timbales\, Negritos\, Gegants Moros\, Gegants del Cós del Bou – Antics de la Ciutat— arribaran al Pla de la Seu i tothom els podrà veure fins a l’inici de la Professó de Corpus.\n 	19.15 h Des del Pla de la Seu. Professó de Corpus\, elements aniran acompanyats musicalment dels grallers Quatre Garrofers\, de l’Esperidió i Sonagralla. Itinerari: Pla de la Seu\, seguint pel carrer de les Coques\, Sant Pau\, Pla de Palau\, Mare de Déu del Claustre\, Escrivanies Velles i Pla de la Seu.\n 	En acabar el recorregut\, els elements festius tornaran cap a la plaça de la Font\, on ballaran els Negritos i Gegants i es repartiran les tradicionals coques de cireres.
URL:http://gremidepagesos.cat/acte/seguici-de-corpus
LOCATION:Catedral de Tarragona\, pla de la seu\, 1\, Tarragona\, Espanya
CATEGORIES:Gremi de Pagesos
END:VEVENT
BEGIN:VEVENT
DTSTART;TZID=Europe/Paris:20180721T200000
DTEND;TZID=Europe/Paris:20180721T230000
DTSTAMP:20260422T042104
CREATED:20180720T080426Z
LAST-MODIFIED:20180720T080606Z
UID:2527-1532203200-1532214000@gremidepagesos.cat
SUMMARY:Dia de Santa Magdalena
DESCRIPTION:A les 20:00 hores: Solemne ofici religiós a l’església de Sant Llorenç concelebrat per Mn. Xavier Reñe Balcells i Mn. Francesc Gallart Magarolas.\nL’acte serà acompanyat pels cants litúrgics i els Goigs a llaor de Santa Magdalena interpretats per la Coral L’Àncora i dirigida per la Sra. Sílvia Virgili. Durant el transcurs es beneiran les bosses d’avellanes\, fent al·lusió a la dita “Per Santa Magdalena l’avellana és plena”. I en acabar l’acte\, es durà a terme la presentació del nou consiliari del Gremi Mn. Xavier Reñe Balcells\, així com també\, es fará un reconeixement a Mn. Francesc Gallart Magarolas en motiu de gratitud per la seva tasca de col·laboració\, ajut i dedicació envers al Gremi. \nEnguany\, com a novetat\, es presentaran les rèpliques de tres peanyes litúrgiques de l’obra original de Josep Maria Jujol i Gibert que a partir d’ara seran utilitzades en els actes litúrgics donat que els originals seran exposats de manera permanent a l’Espai Jujol del Gremi. \n  \nA les 21:00 hores: Sopar solidari per al finançament de les obres a l’església gòtica de Sant Llorenç propietat del Gremi\, a la plaça de la Pagesia\, compost per: amanida variada\, fideuada amb all i oli\, mousse de llimona\, vi i aigua mineral\, cafè.
URL:http://gremidepagesos.cat/acte/2527
LOCATION:Església de Sant Llorenç\, Plaça de la Pagesia\, Tarragona\, Tarragona\, 43003\, Espanya
CATEGORIES:Gremi de Pagesos
END:VEVENT
BEGIN:VEVENT
DTSTART;TZID=Europe/Paris:20180810T200000
DTEND;TZID=Europe/Paris:20180810T220000
DTSTAMP:20260422T042104
CREATED:20180720T080741Z
LAST-MODIFIED:20180810T112927Z
UID:2535-1533931200-1533938400@gremidepagesos.cat
SUMMARY:Festivitat de Sant Llorenç
DESCRIPTION:A les 20:00 hores: A l’Església de Sant Llorenç\, Ofici solemne en honor de Sant Llorenç\, Copatró dels Bracers\, des de l’any 1405 a càrrec de Mn. Xavier Reñe Balcells. Amb l’acompanyament musical de la Coral L’Àncora. \nA les 20:40 hores: Benedicció i repartiment d’alfàbrega entre els assistents. \nA les 20:50 hores: Vermut a l’eixida de l’Església.
URL:http://gremidepagesos.cat/acte/dia-de-sant-llorenc
LOCATION:Església de Sant Llorenç\, Plaça de la Pagesia\, Tarragona\, Tarragona\, 43003\, Espanya
CATEGORIES:Gremi de Pagesos
END:VEVENT
BEGIN:VEVENT
DTSTART;TZID=Europe/Paris:20181129T200000
DTEND;TZID=Europe/Paris:20181129T210000
DTSTAMP:20260422T042104
CREATED:20181126T082957Z
LAST-MODIFIED:20181126T083051Z
UID:2639-1543521600-1543525200@gremidepagesos.cat
SUMMARY:Entrega Rec Major i Medalla Sant Llorenç
DESCRIPTION:El proper dijous 29 de novembre\, a les 8 del vespre\, al Saló de Plens del Palau de la Diputació de Tarragona\, passeig de Sant Antoni 100\, tindrà lloc el lliurament dels premis “El Rec Major” i “Medalla de Sant Llorenç” que\, com ja és tradició\, cada any atorga el Gremi de Pagesos de Sant Llorenç i Sant Isidre. \nEls guardons\, que ja arriben a la seva 26ª edició\, reconeixeran la tasca de diferents personalitats de la ciutat de Tarragona i rodalies. Aquest any\, “El Rec Major” serà atorgat al  Sr. Antoni Pont Amenós de l’empresa Borges\, al Sr. Jordi Ciuraneta Riu de l’empresa Priordei\, al Sr. Francisco José Vargas García\, i a la Bodega Vins Mas Sersal de Falset. En canvi\, la Medalla de Sant Llorenç serà concedida a la Sra. Teresa Valls Miró i a la Fundació privada Mútua Catalana\, per la seva col·laboració i suport inestimable envers l’entitat. \nL’acte es clourà amb la interpretació de dues peces musicals a càrrec de la Coral Gregal i d’una degustació de vins de la Bodega Mas Sersal\, oli de Priordei i fruits secs de l’empresa Borges. \nLa cerimònia d’entrega està oberta a la tota la ciutadania que ens vulgui acompanyar. \nVegeu invitació aquí.
URL:http://gremidepagesos.cat/acte/entrega-rec-major
LOCATION:Saló de Plens\, Diputació de Tarragona\, Passeig Sant Antoni\, 100\, Tarragona\, Tarragona\, 43003\, Espanya
CATEGORIES:Gremi de Pagesos
END:VEVENT
BEGIN:VEVENT
DTSTART;TZID=Europe/Paris:20190317T100000
DTEND;TZID=Europe/Paris:20190317T140000
DTSTAMP:20260422T042104
CREATED:20190220T085601Z
LAST-MODIFIED:20190309T175050Z
UID:2716-1552816800-1552831200@gremidepagesos.cat
SUMMARY:Celebració dels tradicionals Tres Tombs a Tarragona
DESCRIPTION:Segona part de la festivitat de Sant Antoni Abad\, copatró del Gremi. \n\n 	9 h.: concentració dels carruatges i cavalleries a l’avinguda Vidal i Barraquer. \n 	10 h.: esmorzar per als participants\n 	11:30 h.: inici de la desfilada. Enfilaran pel carrer Francesc Bastos\, Ramon i Cajal fins a la Rambla Nova\, on es realitzaran els tradicionals Tres Tombs. \n 	12 h.: Mn. Xavier Reñé beneirà les cavalleries des de l’escenari situat a la Rambla Nova\, davant les oficines de l’Ajuntament\, i es repartirà un record commemoratiu de la diada als participants. \n\nAmb el patrocini de l’empresa REPSOL. Consulta el programa aquí.
URL:http://gremidepagesos.cat/acte/celebracio-dels-tradicionals-tres-tombs-a-tarragona
LOCATION:Rambla Nova\, Rambla Nova\, Tarragona\, Tarragona\, 43004\, Espanya
CATEGORIES:Gremi de Pagesos,Tres tombs
ATTACH;FMTTYPE=image/jpeg:https://www.gremidepagesos.cat/wp-content/uploads/2018/03/Tres-Tombs-2018.jpg
END:VEVENT
BEGIN:VEVENT
DTSTART;TZID=Europe/Paris:20190321T200000
DTEND;TZID=Europe/Paris:20190321T220000
DTSTAMP:20260422T042104
CREATED:20190220T090018Z
LAST-MODIFIED:20190220T090441Z
UID:2718-1553198400-1553205600@gremidepagesos.cat
SUMMARY:Acte de presentació de l'Opuscle
DESCRIPTION:
URL:http://gremidepagesos.cat/acte/acte-de-presentacio-de-lopuscle
LOCATION:Tarragona
END:VEVENT
BEGIN:VEVENT
DTSTART;TZID=Europe/Paris:20190323T180000
DTEND;TZID=Europe/Paris:20190323T210000
DTSTAMP:20260422T042104
CREATED:20190220T090248Z
LAST-MODIFIED:20190220T090248Z
UID:2720-1553364000-1553374800@gremidepagesos.cat
SUMMARY:II Edició del Ball parlat de santa Magdalena
DESCRIPTION:
URL:http://gremidepagesos.cat/acte/ii-edicio-del-ball-parlat-de-santa-magdalena
LOCATION:Tarragona
END:VEVENT
BEGIN:VEVENT
DTSTART;TZID=Europe/Paris:20190330T163000
DTEND;TZID=Europe/Paris:20190330T200000
DTSTAMP:20260422T042104
CREATED:20190220T090725Z
LAST-MODIFIED:20190220T090725Z
UID:2722-1553963400-1553976000@gremidepagesos.cat
SUMMARY:Acte commemoratiu del 75è aniversari de la sortida processional del Misteri de la Mare de Déu de la Pietat
DESCRIPTION:
URL:http://gremidepagesos.cat/acte/acte-commemoratiu-del-75e-aniversari-de-la-sortida-processional-del-misteri-de-la-mare-de-deu-de-la-pietat
LOCATION:Tarragona
END:VEVENT
BEGIN:VEVENT
DTSTART;TZID=Europe/Paris:20190407T110000
DTEND;TZID=Europe/Paris:20190407T130000
DTSTAMP:20260422T042104
CREATED:20190220T091140Z
LAST-MODIFIED:20190220T091246Z
UID:2724-1554634800-1554642000@gremidepagesos.cat
SUMMARY:Missa de sant Llàtzer en sufragi pels agremiats traspassats i XXXIII Concert Sacre de Setmana Santa de la Coral L'Àncora
DESCRIPTION:
URL:http://gremidepagesos.cat/acte/missa-de-sant-llatzer-en-sufragi-pels-agremiats-traspassats-i-xxxiii-concert-sacre-de-setmana-santa-de-la-coral-lancora
LOCATION:Tarragona
END:VEVENT
BEGIN:VEVENT
DTSTART;TZID=Europe/Paris:20190412T190000
DTEND;TZID=Europe/Paris:20190412T220000
DTSTAMP:20260422T042104
CREATED:20190221T155730Z
LAST-MODIFIED:20190411T082116Z
UID:2727-1555095600-1555106400@gremidepagesos.cat
SUMMARY:Divendres de Dolors
DESCRIPTION:19:00 hores. Viacrucis per l’interior de l’església de Sant Llorenç\, presidit pel Sant Crist de la Pietat i oficiat per Mn. Xavier Reñé. A continuació solemne Processó del Divendres de Dolors pels carrer de la Part Alta  de Tarragona.
URL:http://gremidepagesos.cat/acte/divendres-de-dolors
LOCATION:Tarragona
END:VEVENT
BEGIN:VEVENT
DTSTART;TZID=Europe/Paris:20190414T104500
DTEND;TZID=Europe/Paris:20190414T120000
DTSTAMP:20260422T042104
CREATED:20190221T155821Z
LAST-MODIFIED:20190411T082247Z
UID:2729-1555238700-1555243200@gremidepagesos.cat
SUMMARY:Diumenge de Rams
DESCRIPTION:10:45 h al carrer de les Coques\, organitzada pel Capítol de la Catedral\, solemne benedicció de palmes i rams.
URL:http://gremidepagesos.cat/acte/diumenge-de-rams-2
LOCATION:Tarragona
END:VEVENT
BEGIN:VEVENT
DTSTART;TZID=Europe/Paris:20190418T180000
DTEND;TZID=Europe/Paris:20190418T220000
DTSTAMP:20260422T042104
CREATED:20190221T155909Z
LAST-MODIFIED:20190411T123653Z
UID:2731-1555610400-1555624800@gremidepagesos.cat
SUMMARY:Dijous Sant
DESCRIPTION:18:00 h. Celebració del Sant Sopar de Nostre Senyor Jesucrist\, oficiat pel nostre consiliari Mn. Xavier Reñé.\n\n19:00 h. \, 19:30 h. I 20:00 h. Acatament i veneració dal Santíssim Monument per part dels Armats del Gremi.\n\nFins les 22:00 h. l’església romandrà oberta per l’adoració.
URL:http://gremidepagesos.cat/acte/dijous-sant
LOCATION:Tarragona
END:VEVENT
BEGIN:VEVENT
DTSTART;VALUE=DATE:20190419
DTEND;VALUE=DATE:20190420
DTSTAMP:20260422T042104
CREATED:20190221T155945Z
LAST-MODIFIED:20190411T082526Z
UID:2733-1555632000-1555718399@gremidepagesos.cat
SUMMARY:Divendres Sant
DESCRIPTION:De 8:00 a 11:00 h. Adoració al Santíssim Monument\n\n9:00 h. “VI Marxa de la Farigola”. Sortida de l’església de Sant Llorenç fins les rodalies de la nostra ciutat.\n\n11:00 h. Ofici propi del Divendres Sant i benedicció de la farigola recollida a càrrec de Mn. Xavier Reñé. Repartiment de la farigola entre els assistents.\n\nA l’hora habitual\, recollida dels Misteris de la Mare de Déu de la Pietat i e Sant Sepulcre davant l’església de Sant Llorenç per part dels Armats de la Sang\n\nParticipació a la processó dels Sant Enterrament. Sortida des de la Plaça del Rei a l’hora habitual.
URL:http://gremidepagesos.cat/acte/divendres-sant-2
LOCATION:Tarragona
END:VEVENT
BEGIN:VEVENT
DTSTART;TZID=Europe/Paris:20190512T080000
DTEND;TZID=Europe/Paris:20190512T170000
DTSTAMP:20260422T042104
CREATED:20190502T163738Z
LAST-MODIFIED:20190502T163738Z
UID:2907-1557648000-1557680400@gremidepagesos.cat
SUMMARY:Celebració de Sant Isidre
DESCRIPTION:A les 12\,00 hores solemne OFICI RELIGIÓS en honor al Copatró\, a càrrec de  Mn. Xavier Reñé Balcells\, que comptarà amb la participació de la CORAL ÀNCORA interpretant els cants litúrgics.\n\nDurant el decurs de la missa i un cop acabada aquesta es procedirà a beneir els nous bancs de l’església que han estat adquirits recentment\, així com també es beneiran bossetes de cireres i nespres que seran lliurades als assistents.\n\nA continuació entrega d’obsequis del CONCURS DE PANERES a tots els participants.\n\nA les 13\,15 hores aperitiu popular a l’eixida de l’església. Gentilesa de la casa YZAGUIRRE.\n\nA les 14:00 hores dinar de Germanor al restaurant de l’hotel “SB Ciutat de Tarragona”
URL:http://gremidepagesos.cat/acte/celebracio-de-sant-isidre
LOCATION:Tarragona
CATEGORIES:Gremi de Pagesos
END:VEVENT
BEGIN:VEVENT
DTSTART;TZID=Europe/Paris:20190518T093000
DTEND;TZID=Europe/Paris:20190518T183000
DTSTAMP:20260422T042104
CREATED:20190502T164058Z
LAST-MODIFIED:20190504T094706Z
UID:2909-1558171800-1558204200@gremidepagesos.cat
SUMMARY:III Jornada Jvjoliana
DESCRIPTION:III JORNADA JVJOLIANA\, que tindrà lloc a la seu del COAC de la demarcació de Tarragona\, carrer Sant Llorenç 20-22 amb el següent programa:\n\n 	9\,30 h.: Recepció dels assistents.\n 	10.h. Benvinguda per part de Joan Tous Gomà-Camps i Raül Font-Quer Plana\, presidents del COAC i del Gremi de Pagesos de Sant Llorenç i Sant Isidre\, respectivament.\n 	10\,10 h. “GAUDÍ-JVJOL” per l’arquitecte japonès Toshiaki Tange.\n 	11 -11\,20h. Cofee-break\n 	11\,20-13h. Taula Rodona sobre “MONTFERRI: SANTUARI DE NOSTRA SENYORA DE MONTSERRAT” amb Mn. Josep Maria Jané i els arquitectes Joan Mercadé Brulles i\n 	Bartomeu Jané Areny. Modera. Josep Maria Buqueras Bach\, vocal de patrimoni del Gremi de Pagesos.\n 	13-14h. Visita a l’Església de Sant Llorenç\, i a l’Espai JVJOL del Gremi de Pagesos (en dos grups\, en funció de l’assistència).\n 	14\,15h. Dinar (temps lliure).\n 	16\,15-18\,30h. Ruta Modernista de la ciutat guiada per Josep M. Buqueras
URL:http://gremidepagesos.cat/acte/iii-jornada-jvjoliana
LOCATION:Tarragona
END:VEVENT
BEGIN:VEVENT
DTSTART;VALUE=DATE:20190720
DTEND;VALUE=DATE:20190721
DTSTAMP:20260422T042104
CREATED:20190627T165305Z
LAST-MODIFIED:20190627T165808Z
UID:2933-1563580800-1563667199@gremidepagesos.cat
SUMMARY:Celebració Santa Magdalena
DESCRIPTION:A les 20:00 hores: Solemne ofici religiós a l’església de Sant Llorenç celebrat pel nostre consiliari Mn. Xavier Reñé. L’acte serà acompanyat pels cants litúrgics i els Goigs a llaor de Santa Magdalena interpretats per la Coral L’Àncora\, dirigida per la Sra. Sílvia Virgili.\n\nUn cop acabada la missa es beneirà dos elements litúrgics  adquirits recentment: la “Roda de Campanes” i “Les Matraques”.\n\nTot seguit  benedicció  de bossetes d’avellanes que seran repartides al final de l’acte a tots els assistents (fem bona la dita de que per Santa Magdalena l’avellana és plena). \n\nA les 21:00 hores: Sopar solidari per al finançament de les obres de l’església gòtica de Sant Llorenç propietat del Gremi\, a la plaça de la Pagesia\, compost per:  amanida variada\, fideuada amb all i oli\, mousse de llimona\, vi blanc\, refresc i aigua mineral\, cafè.
URL:http://gremidepagesos.cat/acte/celebracio-santa-magdalena
LOCATION:Tarragona
END:VEVENT
BEGIN:VEVENT
DTSTART;VALUE=DATE:20190727
DTEND;VALUE=DATE:20190728
DTSTAMP:20260422T042104
CREATED:20190627T165534Z
LAST-MODIFIED:20190627T165534Z
UID:2935-1564185600-1564271999@gremidepagesos.cat
SUMMARY:Visita guiada al Parc del riu Francolí
DESCRIPTION:A les 9:00 hores: Visita guiada al parc del riu Francolí per tal de donar a conèixer les principals espècies d’arbres del parc. Durada aproximada: 3 hores. Lloc de trobada: el bar-guingueta darrera del col·legi Cèsar August. Recomanable portar barret\, crema solar i aigua per tal de protegir-nos del sol.
URL:http://gremidepagesos.cat/acte/visita-guiada-al-parc-del-riu-francoli
LOCATION:Tarragona
END:VEVENT
BEGIN:VEVENT
DTSTART;VALUE=DATE:20190810
DTEND;VALUE=DATE:20190811
DTSTAMP:20260422T042104
CREATED:20190627T165710Z
LAST-MODIFIED:20190627T165710Z
UID:2937-1565395200-1565481599@gremidepagesos.cat
SUMMARY:Celebració de Sant Llorenç
DESCRIPTION:A les 20:00 hores: A l’Església de Sant Llorenç\, Ofici solemne en honor a Sant Llorenç\, Copatró dels Bracers\, des de l’any 1405 a càrrec del nostre consiliari Mn. Xavier Reñé. Amb l’acompanyament musical de la Coral L’Àncora.\n\nA les 20:40 hores: Benedicció i repartiment d’alfàbrega entre els assistents.\n\nA les 20:50 hores: Vermut a l’eixida de l’Església.    
URL:http://gremidepagesos.cat/acte/celebracio-de-sant-llorenc
LOCATION:Tarragona
END:VEVENT
BEGIN:VEVENT
DTSTART;TZID=Europe/Paris:20191115T200000
DTEND;TZID=Europe/Paris:20191115T210000
DTSTAMP:20260422T042104
CREATED:20191110T184456Z
LAST-MODIFIED:20191110T185337Z
UID:3025-1573848000-1573851600@gremidepagesos.cat
SUMMARY:Lliurament del guardons "Rec Major" i "Medalles de Sant Llorenç"
DESCRIPTION:
URL:http://gremidepagesos.cat/acte/lliurament-del-guardons-rec-major-i-medalles-de-sant-llorenc
LOCATION:Tarragona
END:VEVENT
BEGIN:VEVENT
DTSTART;TZID=Europe/Paris:20191128T183000
DTEND;TZID=Europe/Paris:20191128T200000
DTSTAMP:20260422T042104
CREATED:20191110T185137Z
LAST-MODIFIED:20191110T185238Z
UID:3030-1574965800-1574971200@gremidepagesos.cat
SUMMARY:Conferència “JUJOL I LA SEVA PETJADA A LES COMARQUES DEL CAMP DE TARRAGONA” impartida pel nostre vocal de patrimoni Sr. Josep Maria Buqueras Bach
DESCRIPTION:
URL:http://gremidepagesos.cat/acte/conferencia-jujol-i-la-seva-petjada-a-les-comarques-del-camp-de-tarragona-impartida-pel-nostre-vocal-de-patrimoni-sr-josep-maria-buqueras-bach
LOCATION:Tarragona
END:VEVENT
BEGIN:VEVENT
DTSTART;TZID=Europe/Paris:20191128T200000
DTEND;TZID=Europe/Paris:20191128T213000
DTSTAMP:20260422T042104
CREATED:20191110T184932Z
LAST-MODIFIED:20191110T185506Z
UID:3028-1574971200-1574976600@gremidepagesos.cat
SUMMARY:Assemblea anual de socis
DESCRIPTION:
URL:http://gremidepagesos.cat/acte/assemblea-anual-de-socis
LOCATION:Tarragona
END:VEVENT
BEGIN:VEVENT
DTSTART;TZID=Europe/Paris:20191129T173000
DTEND;TZID=Europe/Paris:20191129T190000
DTSTAMP:20260422T042104
CREATED:20191110T185612Z
LAST-MODIFIED:20191110T185612Z
UID:3032-1575048600-1575054000@gremidepagesos.cat
SUMMARY:Inauguració de la Fira de l’oli nou\, a la Plaça Corsini Col·labora Gremi de Pagesos.
DESCRIPTION:
URL:http://gremidepagesos.cat/acte/inauguracio-de-la-fira-de-loli-nou-a-la-placa-corsini-collabora-gremi-de-pagesos
LOCATION:Tarragona
END:VEVENT
BEGIN:VEVENT
DTSTART;TZID=Europe/Paris:20191130T113000
DTEND;TZID=Europe/Paris:20191130T130000
DTSTAMP:20260422T042104
CREATED:20191110T185737Z
LAST-MODIFIED:20191110T185737Z
UID:3034-1575113400-1575118800@gremidepagesos.cat
SUMMARY:Vermut popular a la Plaça Corsini i degustació de l’oli nou.
DESCRIPTION:
URL:http://gremidepagesos.cat/acte/vermut-popular-a-la-placa-corsini-i-degustacio-de-loli-nou
LOCATION:Tarragona
END:VEVENT
BEGIN:VEVENT
DTSTART;TZID=Europe/Paris:20191214T080000
DTEND;TZID=Europe/Paris:20191214T190000
DTSTAMP:20260422T042104
CREATED:20191110T185838Z
LAST-MODIFIED:20191110T185838Z
UID:3036-1576310400-1576350000@gremidepagesos.cat
SUMMARY:Excursió per a “posar el Pessebre” a la població de San Joan Despí
DESCRIPTION:
URL:http://gremidepagesos.cat/acte/excursio-per-a-posar-el-pessebre-a-la-poblacio-de-san-joan-despi
LOCATION:Tarragona
END:VEVENT
END:VCALENDAR