BEGIN:VCALENDAR
VERSION:2.0
PRODID:-//Gremi de Pagesos - ECPv6.15.17.1//NONSGML v1.0//EN
CALSCALE:GREGORIAN
METHOD:PUBLISH
X-WR-CALNAME:Gremi de Pagesos
X-ORIGINAL-URL:http://gremidepagesos.cat
X-WR-CALDESC:Esdeveniments per Gremi de Pagesos
REFRESH-INTERVAL;VALUE=DURATION:PT1H
X-Robots-Tag:noindex
X-PUBLISHED-TTL:PT1H
BEGIN:VTIMEZONE
TZID:Europe/Paris
BEGIN:DAYLIGHT
TZOFFSETFROM:+0100
TZOFFSETTO:+0200
TZNAME:CEST
DTSTART:20200329T010000
END:DAYLIGHT
BEGIN:STANDARD
TZOFFSETFROM:+0200
TZOFFSETTO:+0100
TZNAME:CET
DTSTART:20201025T010000
END:STANDARD
BEGIN:DAYLIGHT
TZOFFSETFROM:+0100
TZOFFSETTO:+0200
TZNAME:CEST
DTSTART:20210328T010000
END:DAYLIGHT
BEGIN:STANDARD
TZOFFSETFROM:+0200
TZOFFSETTO:+0100
TZNAME:CET
DTSTART:20211031T010000
END:STANDARD
BEGIN:DAYLIGHT
TZOFFSETFROM:+0100
TZOFFSETTO:+0200
TZNAME:CEST
DTSTART:20220327T010000
END:DAYLIGHT
BEGIN:STANDARD
TZOFFSETFROM:+0200
TZOFFSETTO:+0100
TZNAME:CET
DTSTART:20221030T010000
END:STANDARD
END:VTIMEZONE
BEGIN:VEVENT
DTSTART;VALUE=DATE:20210514
DTEND;VALUE=DATE:20210515
DTSTAMP:20260423T201634
CREATED:20210513T174553Z
LAST-MODIFIED:20210513T174654Z
UID:3586-1620950400-1621036799@gremidepagesos.cat
SUMMARY:Lliurament Medalla de la Ciutat. Fòrum de la Colònia  19:00 hores
DESCRIPTION:Divendres a les 19:00 h. al Fòrum de la Colònia\, cr. Lleida\, s/n.\, ens serà lliurada la medalla d’Or de la Ciutat. per Il·lm. Sr. Pau Ricomà\, alcalde de Excm. Ajuntament de Tarragona.\nEn acabar l’acte\, la Banda del Gremi efectuarà un breu repic de timbals.\nA causa de les restriccions sanitàries actuals\, l’assistència només es podrà fer amb inscripció prèvia al correu electrònic que figura en el targetó i per ordre de petició. 
URL:http://gremidepagesos.cat/acte/lliurament-medalla-de-la-ciutat-forum-de-la-colonia-1900-hores
LOCATION:Tarragona
END:VEVENT
BEGIN:VEVENT
DTSTART;VALUE=DATE:20210515
DTEND;VALUE=DATE:20210516
DTSTAMP:20260423T201634
CREATED:20210513T174852Z
LAST-MODIFIED:20210513T174852Z
UID:3589-1621036800-1621123199@gremidepagesos.cat
SUMMARY:Sant Isidre
DESCRIPTION:A les 20:00 h. solemne ofici religiós en honor al Copatró Sant Isidre\, a càrrec del nostre consiliari Mn. Xavier Reñé. Interpretarà els cants litúrgics la directora de la coral L’Àncora Sra. Silvia Virgili.\nUn cop acabada la missa es procedirà a beneir les bossetes de cireres i nespres que seran lliurades a tots els assistents.\nAforament reduït i obligatori guardar la distància de seguretat\, neteja de mans i mascareta.
URL:http://gremidepagesos.cat/acte/sant-isidre
LOCATION:Tarragona
END:VEVENT
BEGIN:VEVENT
DTSTART;VALUE=DATE:20210517
DTEND;VALUE=DATE:20210518
DTSTAMP:20260423T201634
CREATED:20210513T175120Z
LAST-MODIFIED:20210513T175120Z
UID:3594-1621209600-1621295999@gremidepagesos.cat
SUMMARY:IV Jornada Jvjoliana
DESCRIPTION:A les 20:00 h. Dins la celebració de la “IV JORNADA JVJOLIANA” tindrà lloc una conferència virtual a càrrec del President de la Fundació Trencadís i membre de Junta del Gremi\, Sr. Josep Maria Buqueras Bach. Versarà sobre l’obra de l’arquitecte Josep Maria Jujol al Camp de Tarragona. L’accés a la mateixa es podrà consultar a la pagina web del Gremi www.gremidepagesos.cat i en el targetó que es reprodueix al dors. Organitzen: Gremi de Pagesos\, COAC\, Rotary Club Tarragona. Col·laboren: Arxiu Jujol\, Fundació Trencadís.
URL:http://gremidepagesos.cat/acte/iv-jornada-jvjoliana
LOCATION:Tarragona
END:VEVENT
END:VCALENDAR