BEGIN:VCALENDAR
VERSION:2.0
PRODID:-//Gremi de Pagesos - ECPv6.15.17.1//NONSGML v1.0//EN
CALSCALE:GREGORIAN
METHOD:PUBLISH
X-WR-CALNAME:Gremi de Pagesos
X-ORIGINAL-URL:http://gremidepagesos.cat
X-WR-CALDESC:Esdeveniments per Gremi de Pagesos
REFRESH-INTERVAL;VALUE=DURATION:PT1H
X-Robots-Tag:noindex
X-PUBLISHED-TTL:PT1H
BEGIN:VTIMEZONE
TZID:Europe/Paris
BEGIN:DAYLIGHT
TZOFFSETFROM:+0100
TZOFFSETTO:+0200
TZNAME:CEST
DTSTART:20200329T010000
END:DAYLIGHT
BEGIN:STANDARD
TZOFFSETFROM:+0200
TZOFFSETTO:+0100
TZNAME:CET
DTSTART:20201025T010000
END:STANDARD
BEGIN:DAYLIGHT
TZOFFSETFROM:+0100
TZOFFSETTO:+0200
TZNAME:CEST
DTSTART:20210328T010000
END:DAYLIGHT
BEGIN:STANDARD
TZOFFSETFROM:+0200
TZOFFSETTO:+0100
TZNAME:CET
DTSTART:20211031T010000
END:STANDARD
BEGIN:DAYLIGHT
TZOFFSETFROM:+0100
TZOFFSETTO:+0200
TZNAME:CEST
DTSTART:20220327T010000
END:DAYLIGHT
BEGIN:STANDARD
TZOFFSETFROM:+0200
TZOFFSETTO:+0100
TZNAME:CET
DTSTART:20221030T010000
END:STANDARD
END:VTIMEZONE
BEGIN:VEVENT
DTSTART;TZID=Europe/Paris:20210722T080000
DTEND;TZID=Europe/Paris:20210722T170000
DTSTAMP:20260423T121911
CREATED:20210513T175235Z
LAST-MODIFIED:20210513T175235Z
UID:3596-1626940800-1626973200@gremidepagesos.cat
SUMMARY:Santa Magdalena
DESCRIPTION:A les 20:00 h. Solemne ofici religiós a l’església de Sant Llorenç presidit pel nostre consiliari Mn. Xavier Reñé. La cerimònia serà acompanyada pels cants litúrgics i els goigs a llaor a Santa Magdalena interpretats per la directora de la coral L’Àncora Sra. Silvia Virgili.\nTot seguit benedicció de bossetes d’avellanes que seran repartides al final de la celebració a tots els assistents (fem bona la dita: “Per Santa Magdalena l’avellana és plena”).\nAforament reduït i obligatori guardar la distància de seguretat\, neteja de mans i mascareta.
URL:http://gremidepagesos.cat/acte/santa-magdalena
LOCATION:Tarragona
END:VEVENT
END:VCALENDAR