BEGIN:VCALENDAR
VERSION:2.0
PRODID:-//Gremi de Pagesos - ECPv6.15.17.1//NONSGML v1.0//EN
CALSCALE:GREGORIAN
METHOD:PUBLISH
X-ORIGINAL-URL:https://gremidepagesos.cat
X-WR-CALDESC:Esdeveniments per Gremi de Pagesos
REFRESH-INTERVAL;VALUE=DURATION:PT1H
X-Robots-Tag:noindex
X-PUBLISHED-TTL:PT1H
BEGIN:VTIMEZONE
TZID:Europe/Paris
BEGIN:DAYLIGHT
TZOFFSETFROM:+0100
TZOFFSETTO:+0200
TZNAME:CEST
DTSTART:20240331T010000
END:DAYLIGHT
BEGIN:STANDARD
TZOFFSETFROM:+0200
TZOFFSETTO:+0100
TZNAME:CET
DTSTART:20241027T010000
END:STANDARD
BEGIN:DAYLIGHT
TZOFFSETFROM:+0100
TZOFFSETTO:+0200
TZNAME:CEST
DTSTART:20250330T010000
END:DAYLIGHT
BEGIN:STANDARD
TZOFFSETFROM:+0200
TZOFFSETTO:+0100
TZNAME:CET
DTSTART:20251026T010000
END:STANDARD
BEGIN:DAYLIGHT
TZOFFSETFROM:+0100
TZOFFSETTO:+0200
TZNAME:CEST
DTSTART:20260329T010000
END:DAYLIGHT
BEGIN:STANDARD
TZOFFSETFROM:+0200
TZOFFSETTO:+0100
TZNAME:CET
DTSTART:20261025T010000
END:STANDARD
END:VTIMEZONE
BEGIN:VEVENT
DTSTART;TZID=Europe/Paris:20251217T193000
DTEND;TZID=Europe/Paris:20251217T220000
DTSTAMP:20260423T115354
CREATED:20251107T171456Z
LAST-MODIFIED:20251107T171537Z
UID:4958-1765999800-1766008800@gremidepagesos.cat
SUMMARY:Lliurament de Guardons "Rec Major" i "Medalla de Sant Llorenç"
DESCRIPTION:19:00 hores al Saló d’Actes de l’Ajuntament de Tarragona\, Plaça de la Font\, 1 43003 Tarragona\, lliurament dels GUARDONS EXCEL·LÈNCIA AGRÀRIA “REC MAJOR”\, i GUARDONS “MEDALLA DE SANT LLORENÇ” . \n  \n  \n 
URL:https://gremidepagesos.cat/acte/lliurament-de-guardons-rec-major-i-medalla-de-sant-llorenc
LOCATION:Ajuntament de Tarragona\, Plaça de La Font\, s/n\, Tarragona
ORGANIZER;CN="Gremi de Pagesos de Sant Lloren%C3%A7 i Sant Isidre":MAILTO:gremidepagesos.adm@gmail.com
END:VEVENT
END:VCALENDAR