BEGIN:VCALENDAR
VERSION:2.0
PRODID:-//Gremi de Pagesos - ECPv6.15.17.1//NONSGML v1.0//EN
CALSCALE:GREGORIAN
METHOD:PUBLISH
X-ORIGINAL-URL:https://gremidepagesos.cat
X-WR-CALDESC:Esdeveniments per Gremi de Pagesos
REFRESH-INTERVAL;VALUE=DURATION:PT1H
X-Robots-Tag:noindex
X-PUBLISHED-TTL:PT1H
BEGIN:VTIMEZONE
TZID:Europe/Paris
BEGIN:DAYLIGHT
TZOFFSETFROM:+0100
TZOFFSETTO:+0200
TZNAME:CEST
DTSTART:20210328T010000
END:DAYLIGHT
BEGIN:STANDARD
TZOFFSETFROM:+0200
TZOFFSETTO:+0100
TZNAME:CET
DTSTART:20211031T010000
END:STANDARD
BEGIN:DAYLIGHT
TZOFFSETFROM:+0100
TZOFFSETTO:+0200
TZNAME:CEST
DTSTART:20220327T010000
END:DAYLIGHT
BEGIN:STANDARD
TZOFFSETFROM:+0200
TZOFFSETTO:+0100
TZNAME:CET
DTSTART:20221030T010000
END:STANDARD
BEGIN:DAYLIGHT
TZOFFSETFROM:+0100
TZOFFSETTO:+0200
TZNAME:CEST
DTSTART:20230326T010000
END:DAYLIGHT
BEGIN:STANDARD
TZOFFSETFROM:+0200
TZOFFSETTO:+0100
TZNAME:CET
DTSTART:20231029T010000
END:STANDARD
BEGIN:DAYLIGHT
TZOFFSETFROM:+0100
TZOFFSETTO:+0200
TZNAME:CEST
DTSTART:20240331T010000
END:DAYLIGHT
BEGIN:STANDARD
TZOFFSETFROM:+0200
TZOFFSETTO:+0100
TZNAME:CET
DTSTART:20241027T010000
END:STANDARD
BEGIN:DAYLIGHT
TZOFFSETFROM:+0100
TZOFFSETTO:+0200
TZNAME:CEST
DTSTART:20250330T010000
END:DAYLIGHT
BEGIN:STANDARD
TZOFFSETFROM:+0200
TZOFFSETTO:+0100
TZNAME:CET
DTSTART:20251026T010000
END:STANDARD
END:VTIMEZONE
BEGIN:VEVENT
DTSTART;TZID=Europe/Paris:20240117T110000
DTEND;TZID=Europe/Paris:20240117T130000
DTSTAMP:20260419T154201
CREATED:20231114T190940Z
LAST-MODIFIED:20240114T180951Z
UID:4330-1705489200-1705496400@gremidepagesos.cat
SUMMARY:Festivitat de Sant Antoni Abat
DESCRIPTION:Dimecres dia 17:  Festivitat de Sant Antoni Abat\, a les 11 hores\, Església de Sant Llorenç\, Santa Missa oficiada pel consiliari de l’AASS de Tarragona  Mn. Antoni Pérez de Mendiguren\, benedicció dels animals de companyia\, i repartiment de coques beneïdes.
URL:https://gremidepagesos.cat/acte/festivitat-de-sant-antoni-abat-4
LOCATION:Església de Sant Llorenç\, Plaça de la Pagesia\, Tarragona\, Tarragona\, 43003\, Espanya
ORGANIZER;CN="Gremi de Pagesos de Sant Lloren%C3%A7 i Sant Isidre":MAILTO:gremidepagesos.adm@gmail.com
END:VEVENT
BEGIN:VEVENT
DTSTART;TZID=Europe/Paris:20231224T190000
DTEND;TZID=Europe/Paris:20231224T210000
DTSTAMP:20260419T154201
CREATED:20231114T190558Z
LAST-MODIFIED:20231114T190635Z
UID:4328-1703444400-1703451600@gremidepagesos.cat
SUMMARY:Missa del Gall
DESCRIPTION:Diumenge dia 24:  A l’Església de Sant Llorenç\, a les 19:00 h.\, Missa del Gall oficiada per Mn. Xavier Reñé Balcells acompanyada dels cants litúrgics pel tenor Sr. Àngel Arèvalo Salas i el Sr. Miquel Castillejos al piano. Tot seguit adoració a l’Infant Jesús\, inauguració dels diorames del Pessebre i per finalitzar recepció amb neules i cava per a tots els assistents\, organitzat per les Senyores de la Pietat.
URL:https://gremidepagesos.cat/acte/missa-del-gall-4
LOCATION:Església de Sant Llorenç\, Plaça de la Pagesia\, Tarragona\, Tarragona\, 43003\, Espanya
ORGANIZER;CN="Gremi de Pagesos de Sant Lloren%C3%A7 i Sant Isidre":MAILTO:gremidepagesos.adm@gmail.com
END:VEVENT
BEGIN:VEVENT
DTSTART;TZID=Europe/Paris:20231217T120000
DTEND;TZID=Europe/Paris:20231217T133000
DTSTAMP:20260419T154201
CREATED:20231114T190330Z
LAST-MODIFIED:20231114T190330Z
UID:4325-1702814400-1702819800@gremidepagesos.cat
SUMMARY:Concert de Nadales populars  a càrrec de la Coral L’Àncora
DESCRIPTION:Diumenge dia 17: A les 12:00 hores a l’església de Sant Llorenç Concert de Nadales populars  a càrrec de la Coral L’Àncora dirigida per la Sra. Silvia Virgili.  
URL:https://gremidepagesos.cat/acte/concert-de-nadales-populars-a-carrec-de-la-coral-lancora
LOCATION:Església de Sant Llorenç\, Plaça de la Pagesia\, Tarragona\, Tarragona\, 43003\, Espanya
END:VEVENT
BEGIN:VEVENT
DTSTART;TZID=Europe/Paris:20231216T090000
DTEND;TZID=Europe/Paris:20231216T210000
DTSTAMP:20260419T154201
CREATED:20231114T190056Z
LAST-MODIFIED:20231114T190056Z
UID:4323-1702717200-1702760400@gremidepagesos.cat
SUMMARY:EXCURSIÓ A LA VILA DE PRADES. Excursió a “Posar el Pessebre”
DESCRIPTION:Dissabte dia 16: EXCURSIÓ A LA VILA DE PRADES. Excursió a “Posar el Pessebre” 9:00 h. Sortida\, en Autobús\, des de davant del Banc d’Espanya\, Rambla Nova. 9:15 h. Parada segona davant la Diputació (Portal de Sant Antoni). Un cop represa la marxa arribarem a la vila de Prades. 10:15 h. Esmorzar lliure. 10:45 h. Ens desplaçarem amb autocar fins prop l’ermita de l’Abellera on deixarem el pessebre i cantarem Nadales com és tradició. 13:00 h. Visita guiada a la Vila de Prades. 15:00 h. Temps per dinar. Hi haurà la possibilitat de concretar amb el restaurant “Gran Recorregut 7” el menú del dia compost de diversos plats a escollir. Per aquesta opció cal apuntar-se al tel. 669690121 Carles Samper fins el dia 07/12. A partir del dia 08/12 fins el 09/12 apuntar-se al telèfon 686153440 Sra. Isabel Fuentes. Acompanyem preu del menú.\n\nAquelles persones que vulguin anar per lliure a dinar\, a la població hi ha diversos establiments de restauració per escollir.\n\n17:00.- Celebració de la Santa Missa presidida pel nostre consiliari Mossèn Xavier Reñé corresponent a la litúrgia de Diumenge d’Advent. Acabada la missa sortida cap a Tarragona i final d’excursió.\n\nPreu del viatge:   25\,00 eur.  (Autocar i visita guiada).
URL:https://gremidepagesos.cat/acte/excursio-a-la-vila-de-prades-excursio-a-posar-el-pessebre
ORGANIZER;CN="Gremi de Pagesos de Sant Lloren%C3%A7 i Sant Isidre":MAILTO:gremidepagesos.adm@gmail.com
END:VEVENT
BEGIN:VEVENT
DTSTART;TZID=Europe/Paris:20231214T200000
DTEND;TZID=Europe/Paris:20231214T220000
DTSTAMP:20260419T154201
CREATED:20231114T185755Z
LAST-MODIFIED:20231114T185755Z
UID:4321-1702584000-1702591200@gremidepagesos.cat
SUMMARY:Assemblea Anual de Socis
DESCRIPTION:14 de desembre de 2023\, dijous\, a la sala de juntes adjunta a l’Església de Sant Llorenç\, cr. Arc de Sant Llorenç\, núm. 7\, a les 20:00 hores en única convocatòria d’acord amb el següent\,
URL:https://gremidepagesos.cat/acte/assemblea-anual-de-socis-3
LOCATION:Església de Sant Llorenç\, Plaça de la Pagesia\, Tarragona\, Tarragona\, 43003\, Espanya
ORGANIZER;CN="Gremi de Pagesos de Sant Lloren%C3%A7 i Sant Isidre":MAILTO:gremidepagesos.adm@gmail.com
END:VEVENT
BEGIN:VEVENT
DTSTART;TZID=Europe/Paris:20231130T193000
DTEND;TZID=Europe/Paris:20231130T220000
DTSTAMP:20260419T154201
CREATED:20231122T081020Z
LAST-MODIFIED:20231122T081315Z
UID:4350-1701372600-1701381600@gremidepagesos.cat
SUMMARY:ACTE DE TANCAMENT DE LA CELEBRACIÓ DEL 7è CENTENARI
DESCRIPTION:El dijous 30 de novembre a les 20 h. a l’església de Sant Llorenç (Plaça de la Pagesia)
URL:https://gremidepagesos.cat/acte/acte-de-tancament-de-la-celebracio-del-7e-centenari
LOCATION:Església de Sant Llorenç\, Plaça de la Pagesia\, Tarragona\, Tarragona\, 43003\, Espanya
ORGANIZER;CN="Gremi de Pagesos de Sant Lloren%C3%A7 i Sant Isidre":MAILTO:gremidepagesos.adm@gmail.com
END:VEVENT
BEGIN:VEVENT
DTSTART;TZID=Europe/Paris:20231124T080000
DTEND;TZID=Europe/Paris:20231125T170000
DTSTAMP:20260419T154201
CREATED:20231114T185304Z
LAST-MODIFIED:20231114T185344Z
UID:4319-1700812800-1700931600@gremidepagesos.cat
SUMMARY:XXIII EDICIÓ DE LA FIRA DE L’OLI DE TARRAGONA
DESCRIPTION:Divendres dia 24 i dissabte dia 25: FIRA DE L’OLI. XXIII edició de la Fira de l’Oli Nou DOP Siurana a Tarragona\, Plaça Corsini\, s/n\,  amb l’objectiu de presentar l’oli nou i fomentar el consum de l’oli jove. Els assistents podran gaudir d’un programa ampli d’activitats lúdiques i familiars.\n\nEl Programa es podrà consultar als següents enllaços: \n\nWeb: DOP Siurana\nWeb: Ajuntament de Tarragona\n\nWeb: Gremi de Pagesos de Sant Llorenç i Sant Isidre\n\nOrganitza: Ajuntament de Tarragona\, Consell Regulador de la DOP Siurana.\n\nCol·labora: Mercats de Tarragona i Gremi de Pagesos de Sant Llorenç i Sant Isidre.
URL:https://gremidepagesos.cat/acte/xxiii-edicio-de-la-fira-de-loli-de-tarragona
LOCATION:Plaça Corsini\, Plaça Corsini\, Tarragona
END:VEVENT
BEGIN:VEVENT
DTSTART;TZID=Europe/Paris:20231123T200000
DTEND;TZID=Europe/Paris:20231123T220000
DTSTAMP:20260419T154201
CREATED:20231114T185107Z
LAST-MODIFIED:20231114T185107Z
UID:4317-1700769600-1700776800@gremidepagesos.cat
SUMMARY:GUARDONS EXCEL·LÈNCIA AGRÀRIA “REC MAJOR”
DESCRIPTION:Dijous dia 23: a les 20:00 hores a l’església de Sant Llorenç de Tarragona\, llirament dels GUARDONS EXCEL·LÈNCIA AGRÀRIA “REC MAJOR”\, aquest any amb els següents reconeixements:\n\nReconeixement a la Innovació:\n\nA l’empresa Verdcamp Fruits\, de Cambrils\n\nReconeixement a l’Enologia i Viticultura:\n\nA la Bodega Giménez Barea de Bonastre. \n\nReconeixement a la Recerca:\n\nSra. Maria Purificació Canals i Ventín.\n\nSra. Maria Francesca Fort Marsal\n\ni GUARDONS “MEDALLA DE SANT LLORENÇ”  \n\nSr. Federico Adan Marín.\n\nSr. Eduard Jordà Ané\, Bodega Jordà\n\nSr. Josep Reig Monclús.\n\nSra. Magdalena Marsal Capell\n\nTot seguit hi haurà una interpretació de dues peces musicals a càrrec de la Coral Gregal.\n\nUn cop finalitzada l’entrega es podrà gaudir d’un petit piscolabis ofert pel Gremi de Pagesos.
URL:https://gremidepagesos.cat/acte/guardons-excel%c2%b7lencia-agraria-rec-major
LOCATION:Església de Sant Llorenç\, Plaça de la Pagesia\, Tarragona\, Tarragona\, 43003\, Espanya
ORGANIZER;CN="Gremi de Pagesos de Sant Lloren%C3%A7 i Sant Isidre":MAILTO:gremidepagesos.adm@gmail.com
END:VEVENT
BEGIN:VEVENT
DTSTART;TZID=Europe/Paris:20231117T193000
DTEND;TZID=Europe/Paris:20231117T210000
DTSTAMP:20260419T154201
CREATED:20231114T184730Z
LAST-MODIFIED:20231114T184730Z
UID:4315-1700249400-1700254800@gremidepagesos.cat
SUMMARY:Premis a la Fidelitat a la Setmana Santa” que organitza l’Agrupació  d’Associacions  de Setmana Santa de Tarragona
DESCRIPTION:Divendres dia 17: a les 19:30 hores\, al “Centre Tarraconense El Seminari”\, c. Sant Pau\, 4  “Premis a la Fidelitat a la Setmana Santa” que organitza l’Agrupació  d’Associacions  de Setmana Santa de Tarragona\, per part del Gremi de Pagesos els guardonats són pel Sant Sepulcre el Sr. Roger Maset i Gaya i per part de la Mare de Déu de la Pietat la Senyora Joana Modesto Vargas
URL:https://gremidepagesos.cat/acte/premis-a-la-fidelitat-a-la-setmana-santa-que-organitza-lagrupacio-dassociacions-de-setmana-santa-de-tarragona
END:VEVENT
BEGIN:VEVENT
DTSTART;TZID=Europe/Paris:20230810T200000
DTEND;TZID=Europe/Paris:20230810T220000
DTSTAMP:20260419T154201
CREATED:20230709T105033Z
LAST-MODIFIED:20230709T105033Z
UID:4280-1691697600-1691704800@gremidepagesos.cat
SUMMARY:Sant Llorenç
DESCRIPTION:A les 20:00 hores\, església de Sant Llorenç. Missa solemne en honor a Sant Llorenç\, copatró dels Bracers des de l’any 1405. Ofici presidit pel Dr. Miquel Bravo\, Canonge degà del Capítol de la Catedral\, amb l’acompanyament musical de la Coral L’Àncora. Directora Sra. Sílvia Virgili.\nA les 20:40 hores: Benedicció i repartiment d’alfàbrega entre els assistents.\nA les 20:50 hores: Piscolabis a l’eixida de l’església gentilesa de vermut Yzaguirre.
URL:https://gremidepagesos.cat/acte/sant-llorenc-2
LOCATION:Església de Sant Llorenç\, Plaça de la Pagesia\, Tarragona\, Tarragona\, 43003\, Espanya
ORGANIZER;CN="Gremi de Pagesos de Sant Lloren%C3%A7 i Sant Isidre":MAILTO:gremidepagesos.adm@gmail.com
END:VEVENT
BEGIN:VEVENT
DTSTART;TZID=Europe/Paris:20230722T200000
DTEND;TZID=Europe/Paris:20230722T233000
DTSTAMP:20260419T154201
CREATED:20230709T104738Z
LAST-MODIFIED:20230709T105124Z
UID:4278-1690056000-1690068600@gremidepagesos.cat
SUMMARY:Santa Magdalena
DESCRIPTION:Celebració festivitat de Santa Magdalena. A les 20:00 h. Solemne ofici religiós a l’església de Sant Llorenç a càrrec del nostre consiliari Mn. Xavier Reñé. La cerimònia serà acompanyada pels cants litúrgics i els goigs a llaor a Santa Magdalena interpretats per la coral L’Àncora. Directora Sra. Sílvia Virgili.\nTot seguit benedicció de bossetes d’avellanes que seran repartides al final de la celebració a tots els assistents (fem bona la dita: “Per Santa Magdalena l’avellana és plena”).\nA l’acabar piscolabis a l’eixida de l’església gentilesa de vermut Yzaguirre.
URL:https://gremidepagesos.cat/acte/santa-magdalena-2
LOCATION:Església de Sant Llorenç\, Plaça de la Pagesia\, Tarragona\, Tarragona\, 43003\, Espanya
ORGANIZER;CN="Gremi de Pagesos de Sant Lloren%C3%A7 i Sant Isidre":MAILTO:gremidepagesos.adm@gmail.com
END:VEVENT
BEGIN:VEVENT
DTSTART;TZID=Europe/Paris:20230514T110000
DTEND;TZID=Europe/Paris:20230514T170000
DTSTAMP:20260419T154201
CREATED:20230509T113638Z
LAST-MODIFIED:20230509T113638Z
UID:4244-1684062000-1684083600@gremidepagesos.cat
SUMMARY:Celebració de Sant Isidre
DESCRIPTION:A les 11:00 hores solemne OFICI RELIGIÓS en honor al Copatró\, a càrrec del nostre consiliari Mn. Xavier Reñé\, que comptarà amb la participació de la CORAL ÀNCORA interpretant els respectius cants litúrgics. Directora Sra. Silvia Virgili.\nDurant el decurs de la missa i un cop acabada aquesta es procedirà a beneir bossetes de cireres i nespres que seran lliurades als assistents.
URL:https://gremidepagesos.cat/acte/celebracio-de-sant-isidre-2
LOCATION:Església de Sant Llorenç\, Plaça de la Pagesia\, Tarragona\, Tarragona\, 43003\, Espanya
ORGANIZER;CN="Gremi de Pagesos de Sant Lloren%C3%A7 i Sant Isidre":MAILTO:gremidepagesos.adm@gmail.com
END:VEVENT
BEGIN:VEVENT
DTSTART;TZID=Europe/Paris:20230513T090000
DTEND;TZID=Europe/Paris:20230513T170000
DTSTAMP:20260419T154201
CREATED:20230509T113245Z
LAST-MODIFIED:20230509T113747Z
UID:4241-1683968400-1683997200@gremidepagesos.cat
SUMMARY:VII JORNADA JVJOLIANA
DESCRIPTION: 9:45 h. Col·legi oficial d’Arquitectes de Catalunya – Demarcació de Tarragona\, carrer Sant Llorenç 20-22  Tarragona
URL:https://gremidepagesos.cat/acte/vii-jornada-jvjoliana
LOCATION:COAC Tarragona\, Carrer Sant Llorenç\, 20\, Tarragona\, Tarragona\, 43003\, Espanya
END:VEVENT
BEGIN:VEVENT
DTSTART;VALUE=DATE:20230407
DTEND;VALUE=DATE:20230408
DTSTAMP:20260419T154201
CREATED:20230226T193925Z
LAST-MODIFIED:20230226T193925Z
UID:4197-1680825600-1680911999@gremidepagesos.cat
SUMMARY:Divendres Sant: Església de Sant Llorenç.
DESCRIPTION:A les 11:00 hores. Ofici propi de Divendres Sant i benedicció de la farigola a càrrec de Mossèn Xavier Reñé.  Repartiment de la farigola entre els assistents.\n\nPer la tarda\, a l’hora habitual\, recollida dels Misteris de La Pietat i Sant Sepulcre davant l’església de Sant Llorenç per part dels Armats de La Sang. Després participació a la Processó del Sant Enterrament.\n\nDe 17:00 h. fins al final de la processó (23:00 h. aprox.) romandran obertes les portes de l’església per venerar el Sant Crist del Gremi. Hi haurà exposat l’estol d’espelmes davant l’altar.\n\nNOTA: Divendres Sant. Donada la proposta d’algunes famílies invitades\, el Gremi posarà\, previ donatiu\, 6 bancs a disposició d’elles. Interessats truqueu al telèfon 977216640 Sr. Jordi Lluis.
URL:https://gremidepagesos.cat/acte/divendres-sant-esglesia-de-sant-llorenc
CATEGORIES:Gremi de Pagesos,Setmana Santa
END:VEVENT
BEGIN:VEVENT
DTSTART;TZID=Europe/Paris:20230406T180000
DTEND;TZID=Europe/Paris:20230406T220000
DTSTAMP:20260419T154201
CREATED:20230226T193734Z
LAST-MODIFIED:20230226T193734Z
UID:4195-1680804000-1680818400@gremidepagesos.cat
SUMMARY:Dijous Sant: (església de Sant Llorenç)
DESCRIPTION: A les 18:00 h. Celebració del Sant Sopar de Nostre Senyor Jesucrist oficiada pel nostre consiliari Mossèn Xavier Reñé.   \n\nFins les 22:00 hores l’església romandrà oberta per l’adoració al Monument
URL:https://gremidepagesos.cat/acte/dijous-sant-esglesia-de-sant-llorenc-2
CATEGORIES:Gremi de Pagesos,Setmana Santa
END:VEVENT
BEGIN:VEVENT
DTSTART;TZID=Europe/Paris:20230402T103000
DTEND;TZID=Europe/Paris:20230402T123000
DTSTAMP:20260419T154201
CREATED:20230226T193346Z
LAST-MODIFIED:20230226T193346Z
UID:4193-1680431400-1680438600@gremidepagesos.cat
SUMMARY:Diumenge de Rams
DESCRIPTION:A les 10:30 h. Assistència de membres de la junta als actes de benedicció de palmes i rams\, c/ Les Coques i posterior missa de Diumenge de Rams a la Catedral. Organitza el Capítol de la Catedral.
URL:https://gremidepagesos.cat/acte/diumenge-de-rams-5
CATEGORIES:Gremi de Pagesos,Setmana Santa
END:VEVENT
BEGIN:VEVENT
DTSTART;TZID=Europe/Paris:20230401T200000
DTEND;TZID=Europe/Paris:20230401T210000
DTSTAMP:20260419T154201
CREATED:20230226T193209Z
LAST-MODIFIED:20230226T193209Z
UID:4191-1680379200-1680382800@gremidepagesos.cat
SUMMARY:Celebració del “XXXII Concert Sacre de Setmana Santa Coral L’Àncora”
DESCRIPTION:A les 20:00 hores\, a l’església de Sant Llorenç\, la degana de les corals tarragonines\, fundades per Josep Anselm Clavé\, entitat en conveni amb el Gremi\, oferirà el tradicional concert Sacre de vigília del diumenge de Rams\, dirigida per  la Sra. Silvia Virgili
URL:https://gremidepagesos.cat/acte/celebracio-del-xxxii-concert-sacre-de-setmana-santa-coral-lancora-2
CATEGORIES:Coral L'Àncora,Gremi de Pagesos,Setmana Santa
END:VEVENT
BEGIN:VEVENT
DTSTART;TZID=Europe/Paris:20230331T190000
DTEND;TZID=Europe/Paris:20230331T220000
DTSTAMP:20260419T154201
CREATED:20230226T192846Z
LAST-MODIFIED:20230226T192846Z
UID:4189-1680289200-1680300000@gremidepagesos.cat
SUMMARY:Divendres de Dolors
DESCRIPTION:A les 19:00 hores.\n\nViacrucis per l’interior de l’església de Sant Llorenç\, presidit pel Sant Crist de la Pietat i oficiat per Mn. Xavier Reñé. Acte seguit adoració al Sant Crist.\n\nA les 19:45 hores.\n\nSolemne Processó de Divendres de Dolors pels carrers de la Part Alta de Tarragona\, precedida pels Armats de la Confraria de La Sang de Constantí\, amb la presidència del Sant Crist de la secció de les Senyores de La Pietat. Participació en la mateixa de la coral L’Àncora i la habitual dels alumnes del col·legi Sant Pau Apòstol de Tarragona\, agremiats\, fidels i autoritats\, acompanyant tots ells els Misteris de la Pietat i del Sant Sepulcre\, aquest últim escortat pels Armats del Gremi. 
URL:https://gremidepagesos.cat/acte/divendres-de-dolors-5
CATEGORIES:Gremi de Pagesos,Setmana Santa
END:VEVENT
BEGIN:VEVENT
DTSTART;TZID=Europe/Paris:20230329T200000
DTEND;TZID=Europe/Paris:20230329T220000
DTSTAMP:20260419T154201
CREATED:20230226T192436Z
LAST-MODIFIED:20230226T192637Z
UID:4186-1680120000-1680127200@gremidepagesos.cat
SUMMARY:Acte de Presentació de l’Opuscle - Programa de Setmana Santa 2023
DESCRIPTION:A les 20 hores. Acte de Presentació de l’Opuscle – Programa de Setmana Santa 2023 a l’església de Sant Llorenç. Tot seguit es lliurarà les banderes del Sant Sepulcre i de La Pietat als banderers d’enguany i també les distincions  “Amics del Sant Sepulcre”\, així com el reconeixement a antics portants dels nostres Misteris. \n\nEn el transcurs de l’acte es presentarà el retallable del Misteri de La Pietat realitzat pel soci del Gremi Sr. Joaquim Nolla Solé. Seguidament es representarà per part del grup teatral Les Forques Teatre de Constantí dues petites escenes de la seva “Passió de Jesucrist”. Director Sr. Marc Cardó. Al finalitzar l’acte es repartirà a tots els assistents el retallable i l’opuscle.
URL:https://gremidepagesos.cat/acte/acte-de-presentacio-de-lopuscle-programa-de-setmana-santa-2023
CATEGORIES:Gremi de Pagesos,Setmana Santa
END:VEVENT
BEGIN:VEVENT
DTSTART;TZID=Europe/Paris:20230326T110000
DTEND;TZID=Europe/Paris:20230326T130000
DTSTAMP:20260419T154201
CREATED:20230226T192115Z
LAST-MODIFIED:20230226T192126Z
UID:4184-1679828400-1679835600@gremidepagesos.cat
SUMMARY:V diumenge de Quaresma
DESCRIPTION:A les 11:00 hores. Església de Sant Llorenç. Missa corresponent al diumenge de Quaresma en sufragi pels agremiats traspassats l’últim any presidida per Mn. Xavier Reñé. La missa anirà acompanyada per la coral L’Àncora. Durant la celebració estarà exposada la Relíquia de Sant Llàtzer datada el segle XV. Acte seguit veneració de la relíquia.
URL:https://gremidepagesos.cat/acte/v-diumenge-de-quaresma
CATEGORIES:Gremi de Pagesos,Missa de Sant Llàtzer
END:VEVENT
BEGIN:VEVENT
DTSTART;TZID=Europe/Paris:20230319T080000
DTEND;TZID=Europe/Paris:20230319T140000
DTSTAMP:20260419T154201
CREATED:20221114T193932Z
LAST-MODIFIED:20230226T192151Z
UID:4080-1679212800-1679234400@gremidepagesos.cat
SUMMARY:Tres Tombs 2023 de Tarragona
DESCRIPTION:Segona part de la festivitat de Sant Antoni abad\, copatró del Gremi. Recuperació “tradicional” dels Tres Tombs on es podrà gaudir de la presencia a la desfilada de tot tipus de carruatges. Benedicció de les cavalleries pel nostre consiliari Mn. Xavier Reñé i entrega d’un obsequi commemoratiu a tots els participants.
URL:https://gremidepagesos.cat/acte/tres-tombs-2022-de-tarragona
CATEGORIES:Gremi de Pagesos,Tres tombs
ORGANIZER;CN="Gremi de Pagesos de Sant Lloren%C3%A7 i Sant Isidre":MAILTO:gremidepagesos.adm@gmail.com
END:VEVENT
BEGIN:VEVENT
DTSTART;TZID=Europe/Paris:20230311T173000
DTEND;TZID=Europe/Paris:20230311T210000
DTSTAMP:20260419T154201
CREATED:20230226T102437Z
LAST-MODIFIED:20230226T102437Z
UID:4177-1678555800-1678568400@gremidepagesos.cat
SUMMARY:Processó conjunta amb el Gremi de Marejans amb motiu del 7è Centenari
DESCRIPTION:A les 17:30 h. Inici des de Sant Llorenç fins arribar al Pla de la Seu. A les 18:00 h. Entrada dels misteris a la catedral on es celebrarà una petita cerimònia religiosa. A la sortida es realitzarà una reverencia conjunta. Tot seguit a les 19:00 h. processó conjunta pels carrers de la Part Alta amb el Gremi de Marejants per tornar després a Sant Llorenç. Al tractar-se d’un acte molt significatiu pel Gremi es demana la màxima participació amb la corresponent vesta de cada misteri.
URL:https://gremidepagesos.cat/acte/processo-conjunta-amb-el-gremi-de-marejans-amb-motiu-del-7e-centenari
END:VEVENT
BEGIN:VEVENT
DTSTART;TZID=Europe/Paris:20230117T110000
DTEND;TZID=Europe/Paris:20230117T123000
DTSTAMP:20260419T154201
CREATED:20221114T193628Z
LAST-MODIFIED:20221114T193628Z
UID:4078-1673953200-1673958600@gremidepagesos.cat
SUMMARY:Festivitat de Sant Antoni abat
DESCRIPTION:A les 11 hores\, Església de Sant Llorenç\, Santa Missa oficiada pel consiliari del Gremi Mn. Xavier Reñé Balcells\, benedicció dels animals de companyia\, i repartiment de coques beneïdes.
URL:https://gremidepagesos.cat/acte/festivitat-de-sant-antoni-abat-3
LOCATION:Església de Sant Llorenç\, Plaça de la Pagesia\, Tarragona\, Tarragona\, 43003\, Espanya
CATEGORIES:Gremi de Pagesos
ORGANIZER;CN="Gremi de Pagesos de Sant Lloren%C3%A7 i Sant Isidre":MAILTO:gremidepagesos.adm@gmail.com
END:VEVENT
BEGIN:VEVENT
DTSTART;TZID=Europe/Paris:20221224T190000
DTEND;TZID=Europe/Paris:20221224T203000
DTSTAMP:20260419T154201
CREATED:20221114T193136Z
LAST-MODIFIED:20221221T174502Z
UID:4073-1671908400-1671913800@gremidepagesos.cat
SUMMARY:Missa del gall
DESCRIPTION: A les 19:00 h. a  l’Església de Sant Llorenç\,\, Missa del gall oficiada per Mn. Xavier Reñé Balcells. Tot seguit adoració a l’Infant Jesús\, inauguració dels diorames del Pessebre i per finalitzar recepció amb neules i cava per a tots els assistents\, organitzat per les Senyores de la Pietat.
URL:https://gremidepagesos.cat/acte/missa-del-gall-3
LOCATION:Església de Sant Llorenç\, Plaça de la Pagesia\, Tarragona\, Tarragona\, 43003\, Espanya
CATEGORIES:Gremi de Pagesos
ORGANIZER;CN="Gremi de Pagesos de Sant Lloren%C3%A7 i Sant Isidre":MAILTO:gremidepagesos.adm@gmail.com
END:VEVENT
BEGIN:VEVENT
DTSTART;TZID=Europe/Paris:20221218T120000
DTEND;TZID=Europe/Paris:20221218T133000
DTSTAMP:20260419T154201
CREATED:20221114T192934Z
LAST-MODIFIED:20221114T194552Z
UID:4070-1671364800-1671370200@gremidepagesos.cat
SUMMARY:Concert de Nadal de la Coral L'Àncora
DESCRIPTION:A les 12:00 h\, amb motiu del centenari de la Confraria de Sant Magí aquest any el concert de Nadal ofert per la Coral L’Àncora dirigida per la Sra. Silvia Virgili excepcionalment es farà a l’ermita de Sant Magí\, c/ Portal del Carro\, s/n . Organització conjunta del Gremi amb la Confraria de Sant Magí i la Coral L’Àncora.
URL:https://gremidepagesos.cat/acte/concert-de-nadal-de-la-coral-lancora
LOCATION:Ermita de Sant Magí\, c/ Portal del Carro\, s/n\, Tarragona
END:VEVENT
BEGIN:VEVENT
DTSTART;TZID=Europe/Paris:20221217T090000
DTEND;TZID=Europe/Paris:20221217T210000
DTSTAMP:20260419T154201
CREATED:20221114T192618Z
LAST-MODIFIED:20221114T194434Z
UID:4068-1671267600-1671310800@gremidepagesos.cat
SUMMARY:Excursió a Montserrat. Acte d'acció de gràcies en motiu del 7è Centenari del Gremi
DESCRIPTION:Excursió a “Posar el Pessebre” 9:00 h. Sortida\, en Autobús\, des de davant del Banc d’Espanya a la Rambla Nova. 9:15 h. Parada segona davant la Diputació (Portal de Sant Antoni). Parada tècnica de 20 minuts aprox. en àrea de restauració. Un cop represa la marxa arribarem a Montserrat. Aquest any hem cregut convenient deixar l’esmorzar i el dinar lliure\, hi han diversos establiments per menjar. Temps lliure a Montserrat. A les 16:30 h. ens trobarem a la capella de darrera del cambril de la Mare de Déu\, on es donarà la benvinguda el Pare Abat de Montserrat. L’accés a la capella es farà pel camí de l’Avemaria (Camí dels Llantiols). Tot seguit farem l’entrega del pessebre i cantarem Nadales com és tradició. 17:00.- Celebració de la Santa Missa presidida pel nostre consiliari Mossèn Xavier Reñé corresponent a la litúrgia de Diumenge d’Advent. Acabada la missa sortida cap a Tarragona i final d’excursió. Imprescindible portar posada la mascareta dins l’autocar.\n\nPreu del viatge:   20\,00 eur.  Per apuntar-se cal trucar fins dilluns\, 12 de desembre\, als telèfons 646038655 Sr. Josep Reig i 669690121 Sr. Carles Samper. Places limitades.
URL:https://gremidepagesos.cat/acte/excursio-a-montserrat-acte-daccio-de-gracies-en-motiu-del-7e-centenari-del-gremi
ORGANIZER;CN="Gremi de Pagesos de Sant Lloren%C3%A7 i Sant Isidre":MAILTO:gremidepagesos.adm@gmail.com
END:VEVENT
BEGIN:VEVENT
DTSTART;TZID=Europe/Paris:20221202T200000
DTEND;TZID=Europe/Paris:20221202T213000
DTSTAMP:20260419T154201
CREATED:20221114T192234Z
LAST-MODIFIED:20221114T194251Z
UID:4065-1670011200-1670016600@gremidepagesos.cat
SUMMARY:Premis a la Fidelitat a la Setmana Santa
DESCRIPTION:A les 20 hores\, al “Centre Tarraconense El Seminari”\, c. Sant Pau\, 4  “Premis a la Fidelitat a la Setmana Santa” que organitza l’Agrupació  d’Associacions  de Setmana Santa de Tarragona\, per part del Gremi de Pagesos els guardonats són pel Sant Sepulcre el “Grup d’Armats de la Confraria del Sant Crist de la Puríssima Sang de Constantí” i per part de la Mare de Déu de la Pietat la Senyora Adela González Valderrama. L’assistència a l’acte serà per ordre d’inscripció abans del dia 25/11 trucant al tel: 609351754 Sr. Lluís Álvarez i previ adquisició del tiquet corresponent de 5\,00 € el qual inclou un aperitiu a l’acabar l’acte. Places limitades
URL:https://gremidepagesos.cat/acte/premis-a-la-fidelitat-a-la-setmana-santa-2
LOCATION:Sala d’actes del Centre Tarraconense El Seminari\, carrer sant pau\, 4\, tarragona\, Tarragona\, Tarragona\, 43003\, Espanya
END:VEVENT
BEGIN:VEVENT
DTSTART;TZID=Europe/Paris:20221130T203000
DTEND;TZID=Europe/Paris:20221130T220000
DTSTAMP:20260419T154201
CREATED:20221114T191910Z
LAST-MODIFIED:20221114T194210Z
UID:4063-1669840200-1669845600@gremidepagesos.cat
SUMMARY:Assemblea anual de Socis
DESCRIPTION:A l’Església de Sant Llorenç\, entrada per cr. Arc de Sant Llorenç\, núm. 7\, a les 20:30 hores en única convocatòria.
URL:https://gremidepagesos.cat/acte/assemblea-anual-de-socis-2
LOCATION:Església de Sant Llorenç\, Plaça de la Pagesia\, Tarragona\, Tarragona\, 43003\, Espanya
CATEGORIES:Gremi de Pagesos
ORGANIZER;CN="Gremi de Pagesos de Sant Lloren%C3%A7 i Sant Isidre":MAILTO:gremidepagesos.adm@gmail.com
END:VEVENT
BEGIN:VEVENT
DTSTART;TZID=Europe/Paris:20221126T113000
DTEND;TZID=Europe/Paris:20221126T140000
DTSTAMP:20260419T154201
CREATED:20221114T191421Z
LAST-MODIFIED:20221114T194112Z
UID:4059-1669462200-1669471200@gremidepagesos.cat
SUMMARY:Degustació de l’oli Nou verge extra DOP Siurana
DESCRIPTION:A partir de les 11\,30 hores vermut popular a la Plaça Corsini i degustació de l’oli Nou verge extra DOP Siurana amb tast de diferents vermuts de les nostres comarques. Venda tiquets de degustació el mateix dia a la fira. Col·labora Gremi de Pagesos.
URL:https://gremidepagesos.cat/acte/degustacio-de-loli-nou-verge-extra-dop-siurana
LOCATION:Plaça Corsini\, Plaça Corsini\, Tarragona
END:VEVENT
BEGIN:VEVENT
DTSTART;TZID=Europe/Paris:20221125T173000
DTEND;TZID=Europe/Paris:20221125T200000
DTSTAMP:20260419T154201
CREATED:20221114T191216Z
LAST-MODIFIED:20221114T194045Z
UID:4055-1669397400-1669406400@gremidepagesos.cat
SUMMARY:Fira de l'oli 2022
DESCRIPTION:A les 17:30 hores i fins a exhaurir existències a la Plaça Corsini\, berenar infantil de pa amb xocolata i oli Nou per a nens/es fins 14 anys. Tot seguit a les 18:00 h. inauguració oficial de la Fira de l’oli nou a la mateixa plaça. Col·labora Gremi de Pagesos.
URL:https://gremidepagesos.cat/acte/fira-de-loli-2022
LOCATION:Plaça Corsini\, Plaça Corsini\, Tarragona
END:VEVENT
END:VCALENDAR